BEGIN:VCALENDAR
VERSION:2.0
PRODID:-//https://www.tlc.asn.au///NONSGML kigkonsult.se iCalcreator 2.10.15//
METHOD:PUBLISH
BEGIN:VEVENT
UID:20210228T072704UTC-7856wNPwuN@https://www.tlc.asn.au/
DTSTAMP:20210228T072704Z
DESCRIPTION:DOWNLOAD THE BROCHURE HERE\nRegistration includes welcome break
 fast\, coffee/tea\; morning coffee/ tea\; buffet lunch\; and afternoon tea
 /coffee\nIf this programme is relevant to you and accepted by your profess
 ional body\, then you may claim one ‘unit’ for each hour of attendance.\nE
 arly Registration $500pp (includes Live Webinar Option)\nLate Registration
  $600pp (includes Live Webinar Option)\nFULL TIME EMPLOYEES AT CLCS &amp\;
  TLC VOLUNTEERS*\nRegistration $150pp\n* Conditions Apply\nEarly registrat
 ion cut off date is 10 March 2021\nRefund Policy: If you pay and cancel be
 fore 10 March 2021 50% of the amount will be refunded. No refund for late 
 registration. https://www.tlc.asn.au/mcle1/upcoming-mcle-programme/event/2
 72-2021-tax-equity-mcle
DTSTART:20210318T204500Z
DTEND:20210319T060000Z
LOCATION:Ashurst Conference Room\, 5 Martin Place Sydney (5 Martin Pl\, Syd
 ney NSW 2000\, Australia)
SUMMARY:2021 Tax & Equity MCLE
URL:https://www.tlc.asn.au/mcle1/upcoming-mcle-programme/event/272-2021-tax
 -equity-mcle
END:VEVENT
END:VCALENDAR
