BEGIN:VCALENDAR
VERSION:2.0
PRODID:-//https://www.tlc.asn.au///NONSGML kigkonsult.se iCalcreator 2.10.15//
METHOD:PUBLISH
BEGIN:VEVENT
UID:20210228T072645UTC-232412cD2u@https://www.tlc.asn.au/
DTSTAMP:20210228T072645Z
DESCRIPTION:DOWNLOAD THE BROCHURE HERE\nRegistration includes welcome break
 fast\, coffee/tea\; morning coffee/ tea\; buffet lunch\; and afternoon tea
 /coffee\nIf this programme is relevant to you and accepted by your profess
 ional body\, then you may claim one ‘unit’ for each hour of attendance.\nR
 egistration $400pp (includes Live Webinar Option)\nFULL TIME EMPLOYEES AT 
 CLCS &amp\; TLC VOLUNTEERS*\nRegistration $150pp\n* Conditions Apply\nRefu
 nd Policy: If you pay and cancel before 2 March 2021 50% of the amount wil
 l be refunded. No refund for late registration. https://www.tlc.asn.au/mcl
 e1/upcoming-mcle-programme/event/276-2021-family-law-mcle
DTSTART:20210305T204500Z
DTEND:20210306T060000Z
LOCATION:Nirimba Room\, Blacktown City  Council Building\, Blacktown (62 Fl
 ushcombe Rd\, Blacktown NSW 2148\, Australia)
SUMMARY:2021 Family Law MCLE
URL:https://www.tlc.asn.au/mcle1/upcoming-mcle-programme/event/276-2021-fam
 ily-law-mcle
END:VEVENT
END:VCALENDAR
